BEGIN:VCALENDAR
VERSION:2.0
PRODID:-//Coxhoe Parish Council//Meeting Calendar//EN
CALSCALE:GREGORIAN
METHOD:PUBLISH
BEGIN:VEVENT
UID:71162-20240904@coxhoeparishcouncil.gov.uk
DTSTAMP:20260423T095827Z
DTSTART;VALUE=DATE:20240904
DTEND;VALUE=DATE:20240905
SUMMARY:Full Council Meeting 04 September 2024
DESCRIPTION:Full Council Meeting\nView details: https://coxhoeparishcouncil.gov.uk/meetings/full-council-meeting-04-september-2024/
URL:https://coxhoeparishcouncil.gov.uk/meetings/full-council-meeting-04-september-2024/
END:VEVENT
END:VCALENDAR
