BEGIN:VCALENDAR
VERSION:2.0
PRODID:-//Coxhoe Parish Council//Meeting Calendar//EN
CALSCALE:GREGORIAN
METHOD:PUBLISH
BEGIN:VEVENT
UID:71167-20241106@coxhoeparishcouncil.gov.uk
DTSTAMP:20260423T095249Z
DTSTART;VALUE=DATE:20241106
DTEND;VALUE=DATE:20241107
SUMMARY:Full Council Meeting 06 November 2024
DESCRIPTION:Full Council Meeting\nView details: https://coxhoeparishcouncil.gov.uk/meetings/full-council-meeting-06-november-2024/
URL:https://coxhoeparishcouncil.gov.uk/meetings/full-council-meeting-06-november-2024/
END:VEVENT
END:VCALENDAR
