BEGIN:VCALENDAR
VERSION:2.0
PRODID:-//Coxhoe Parish Council//Meeting Calendar//EN
CALSCALE:GREGORIAN
METHOD:PUBLISH
BEGIN:VEVENT
UID:71432-20250305@coxhoeparishcouncil.gov.uk
DTSTAMP:20260423T095348Z
DTSTART;VALUE=DATE:20250305
DTEND;VALUE=DATE:20250306
SUMMARY:Full Council Meeting 05 March 2025
DESCRIPTION:Full Council Meeting\nView details: https://coxhoeparishcouncil.gov.uk/meetings/ordinary-meeting-4/
URL:https://coxhoeparishcouncil.gov.uk/meetings/ordinary-meeting-4/
END:VEVENT
END:VCALENDAR
