BEGIN:VCALENDAR
VERSION:2.0
PRODID:-//Coxhoe Parish Council//Meeting Calendar//EN
CALSCALE:GREGORIAN
METHOD:PUBLISH
BEGIN:VEVENT
UID:71434-20250403@coxhoeparishcouncil.gov.uk
DTSTAMP:20260423T095601Z
DTSTART;VALUE=DATE:20250403
DTEND;VALUE=DATE:20250404
SUMMARY:Full Council Meeting 03 April 2025
DESCRIPTION:Full Council Meeting\nView details: https://coxhoeparishcouncil.gov.uk/meetings/ordinary-meeting-5/
URL:https://coxhoeparishcouncil.gov.uk/meetings/ordinary-meeting-5/
END:VEVENT
END:VCALENDAR
