BEGIN:VCALENDAR
VERSION:2.0
PRODID:-//Coxhoe Parish Council//Meeting Calendar//EN
CALSCALE:GREGORIAN
METHOD:PUBLISH
BEGIN:VEVENT
UID:74119-20260107@coxhoeparishcouncil.gov.uk
DTSTAMP:20260423T084532Z
DTSTART;VALUE=DATE:20260107
DTEND;VALUE=DATE:20260108
SUMMARY:Full Council Meeting 7th January 2026
DESCRIPTION:Full Council Meeting\nView details: https://coxhoeparishcouncil.gov.uk/meetings/full-council-meeting-3/
URL:https://coxhoeparishcouncil.gov.uk/meetings/full-council-meeting-3/
END:VEVENT
END:VCALENDAR
